


BEGIN:VCALENDAR
VERSION:2.0
PRODID:-//iniciativ_angola/NONSGML v1.0//EN
CALSCALE:GREGORIAN
BEGIN:VEVENT
DESCRIPTION:
SUMMARY:Rock4Angola
LOCATION:Kulturni dom Pliberk / Bleiburg
URL;VALUE=URI:https://www.angola.at/events/detail/rock4angola1/en
DTSTART:20260424T200000Z
DTEND:20260425T000000Z
DTSTAMP:20260420T224035Z
UID:69e68f43ebadc
END:VEVENT
END:VCALENDAR